BEGIN:VCALENDAR
VERSION:2.0
PRODID:-//South Cumbria Pupil Referral Service - ECPv6.0.11//NONSGML v1.0//EN
CALSCALE:GREGORIAN
METHOD:PUBLISH
X-WR-CALNAME:South Cumbria Pupil Referral Service
X-ORIGINAL-URL:https://www.southcumbriaap.org.uk
X-WR-CALDESC:Events for South Cumbria Pupil Referral Service
REFRESH-INTERVAL;VALUE=DURATION:PT1H
X-Robots-Tag:noindex
X-PUBLISHED-TTL:PT1H
BEGIN:VTIMEZONE
TZID:Europe/London
BEGIN:DAYLIGHT
TZOFFSETFROM:+0000
TZOFFSETTO:+0100
TZNAME:BST
DTSTART:20260329T010000
END:DAYLIGHT
BEGIN:STANDARD
TZOFFSETFROM:+0100
TZOFFSETTO:+0000
TZNAME:GMT
DTSTART:20261025T010000
END:STANDARD
END:VTIMEZONE
BEGIN:VEVENT
DTSTART;TZID=Europe/London:20260507T133000
DTEND;TZID=Europe/London:20260507T151500
DTSTAMP:20260423T121849
CREATED:20260417T125942Z
LAST-MODIFIED:20260417T130544Z
UID:16134-1778160600-1778166900@www.southcumbriaap.org.uk
SUMMARY:GCSE CITIZENSHIP EXAM - PAPER 1 - PM
DESCRIPTION:
URL:https://www.southcumbriaap.org.uk/calendar/gcse-citizenship-exam-paper-1-pm-3/
END:VEVENT
BEGIN:VEVENT
DTSTART;TZID=Europe/London:20260511T091500
DTEND;TZID=Europe/London:20260511T111500
DTSTAMP:20260423T121849
CREATED:20260417T130728Z
LAST-MODIFIED:20260417T130728Z
UID:16136-1778490900-1778498100@www.southcumbriaap.org.uk
SUMMARY:GCSE ENGLISH LITERATURE EXAM - PAPER 1 - AM
DESCRIPTION:
URL:https://www.southcumbriaap.org.uk/calendar/gcse-english-literature-exam-paper-1-am-5/
END:VEVENT
BEGIN:VEVENT
DTSTART;TZID=Europe/London:20260512T133000
DTEND;TZID=Europe/London:20260512T144500
DTSTAMP:20260423T121849
CREATED:20260417T130813Z
LAST-MODIFIED:20260417T131155Z
UID:16138-1778592600-1778597100@www.southcumbriaap.org.uk
SUMMARY:GCSE BIOLOGY EXAM - PAPER 1 - PM
DESCRIPTION:
URL:https://www.southcumbriaap.org.uk/calendar/gcse-biology-exam-paper-1-pm/
END:VEVENT
BEGIN:VEVENT
DTSTART;TZID=Europe/London:20260514T091500
DTEND;TZID=Europe/London:20260514T104500
DTSTAMP:20260423T121849
CREATED:20260417T130902Z
LAST-MODIFIED:20260417T131104Z
UID:16140-1778750100-1778755500@www.southcumbriaap.org.uk
SUMMARY:GCSE MATHS EXAM - PAPER 1 - AM
DESCRIPTION:
URL:https://www.southcumbriaap.org.uk/calendar/gcse-maths-exam-paper-1-am-5/
END:VEVENT
BEGIN:VEVENT
DTSTART;TZID=Europe/London:20260514T133000
DTEND;TZID=Europe/London:20260514T151500
DTSTAMP:20260423T121849
CREATED:20260417T131001Z
LAST-MODIFIED:20260417T131017Z
UID:16142-1778765400-1778771700@www.southcumbriaap.org.uk
SUMMARY:GCSE CITIZENSHIP EXAM - PAPER 2 - PM
DESCRIPTION:
URL:https://www.southcumbriaap.org.uk/calendar/gcse-citizenship-exam-paper-2-pm-3/
END:VEVENT
BEGIN:VEVENT
DTSTART;TZID=Europe/London:20260518T091500
DTEND;TZID=Europe/London:20260518T103000
DTSTAMP:20260423T121849
CREATED:20260417T131335Z
LAST-MODIFIED:20260417T131335Z
UID:16144-1779095700-1779100200@www.southcumbriaap.org.uk
SUMMARY:GCSE CHEMISTRY EXAM - PAPER 1 - AM
DESCRIPTION:
URL:https://www.southcumbriaap.org.uk/calendar/gcse-chemistry-exam-paper-1-am/
END:VEVENT
BEGIN:VEVENT
DTSTART;TZID=Europe/London:20260519T091500
DTEND;TZID=Europe/London:20260519T114500
DTSTAMP:20260423T121849
CREATED:20260417T131440Z
LAST-MODIFIED:20260417T131440Z
UID:16146-1779182100-1779191100@www.southcumbriaap.org.uk
SUMMARY:GCSE ENGLISH LITERATURE - PAPER 2 - AM
DESCRIPTION:
URL:https://www.southcumbriaap.org.uk/calendar/gcse-english-literature-paper-2-am-3/
END:VEVENT
BEGIN:VEVENT
DTSTART;TZID=Europe/London:20260521T080000
DTEND;TZID=Europe/London:20260521T170000
DTSTAMP:20260423T121849
CREATED:20260417T131523Z
LAST-MODIFIED:20260417T131523Z
UID:16148-1779350400-1779382800@www.southcumbriaap.org.uk
SUMMARY:GCSE ENGLISH LANGUAGE EXAM - PAPER 1 - AM
DESCRIPTION:
URL:https://www.southcumbriaap.org.uk/calendar/gcse-english-language-exam-paper-1-am-3/
END:VEVENT
BEGIN:VEVENT
DTSTART;TZID=Europe/London:20260525T080000
DTEND;TZID=Europe/London:20260529T170000
DTSTAMP:20260423T121849
CREATED:20240712T130856Z
LAST-MODIFIED:20240712T130856Z
UID:14607-1779696000-1780074000@www.southcumbriaap.org.uk
SUMMARY:HALF TERM HOLIDAYS
DESCRIPTION:
URL:https://www.southcumbriaap.org.uk/calendar/half-term-holidays-19/
END:VEVENT
END:VCALENDAR