BEGIN:VCALENDAR
VERSION:2.0
PRODID:-//South Cumbria Pupil Referral Service - ECPv6.0.11//NONSGML v1.0//EN
CALSCALE:GREGORIAN
METHOD:PUBLISH
X-WR-CALNAME:South Cumbria Pupil Referral Service
X-ORIGINAL-URL:https://www.southcumbriaap.org.uk
X-WR-CALDESC:Events for South Cumbria Pupil Referral Service
REFRESH-INTERVAL;VALUE=DURATION:PT1H
X-Robots-Tag:noindex
X-PUBLISHED-TTL:PT1H
BEGIN:VTIMEZONE
TZID:Europe/London
BEGIN:DAYLIGHT
TZOFFSETFROM:+0000
TZOFFSETTO:+0100
TZNAME:BST
DTSTART:20240331T010000
END:DAYLIGHT
BEGIN:STANDARD
TZOFFSETFROM:+0100
TZOFFSETTO:+0000
TZNAME:GMT
DTSTART:20241027T010000
END:STANDARD
BEGIN:DAYLIGHT
TZOFFSETFROM:+0000
TZOFFSETTO:+0100
TZNAME:BST
DTSTART:20250330T010000
END:DAYLIGHT
BEGIN:STANDARD
TZOFFSETFROM:+0100
TZOFFSETTO:+0000
TZNAME:GMT
DTSTART:20251026T010000
END:STANDARD
END:VTIMEZONE
BEGIN:VEVENT
DTSTART;TZID=Europe/London:20250217T080000
DTEND;TZID=Europe/London:20250221T170000
DTSTAMP:20260425T233237
CREATED:20230922T080349Z
LAST-MODIFIED:20230922T080349Z
UID:13218-1739779200-1740157200@www.southcumbriaap.org.uk
SUMMARY:HALF TERM HOLIDAYS
DESCRIPTION:
URL:https://www.southcumbriaap.org.uk/calendar/half-term-holidays-15/
END:VEVENT
BEGIN:VEVENT
DTSTART;TZID=Europe/London:20250213T163000
DTEND;TZID=Europe/London:20250213T183000
DTSTAMP:20260425T233237
CREATED:20250117T123610Z
LAST-MODIFIED:20250128T111449Z
UID:14926-1739464200-1739471400@www.southcumbriaap.org.uk
SUMMARY:Furness College Apprenticeship Open Evening
DESCRIPTION:FC Flyer
URL:https://www.southcumbriaap.org.uk/calendar/furness-college-apprenticeship-open-evening/
END:VEVENT
BEGIN:VEVENT
DTSTART;TZID=Europe/London:20250211T144500
DTEND;TZID=Europe/London:20250211T163000
DTSTAMP:20260425T233237
CREATED:20240716T115859Z
LAST-MODIFIED:20250109T131402Z
UID:14631-1739285100-1739291400@www.southcumbriaap.org.uk
SUMMARY:Parental Engagement Session - Year 11 Exam Information
DESCRIPTION:How can you support your child through next stages\, applying for college and apprenticeships\, parent job seeking advice and available courses\, school nurse\, information for students and parents on sexual health services and PRU’s Drugs Education and guidance curriculum\, services to support you and your family now and post 16\, school counsellor and Engagement Officers available for catch up .
URL:https://www.southcumbriaap.org.uk/calendar/year-11-exam-information/
END:VEVENT
BEGIN:VEVENT
DTSTART;TZID=Europe/London:20250210T080000
DTEND;TZID=Europe/London:20250214T170000
DTSTAMP:20260425T233237
CREATED:20250106T120757Z
LAST-MODIFIED:20250106T120757Z
UID:14847-1739174400-1739552400@www.southcumbriaap.org.uk
SUMMARY:National Apprenticeship Week
DESCRIPTION:
URL:https://www.southcumbriaap.org.uk/calendar/national-apprenticeship-week-6/
END:VEVENT
BEGIN:VEVENT
DTSTART;TZID=Europe/London:20250204T163000
DTEND;TZID=Europe/London:20250204T183000
DTSTAMP:20260425T233237
CREATED:20250128T111702Z
LAST-MODIFIED:20250128T111702Z
UID:15062-1738686600-1738693800@www.southcumbriaap.org.uk
SUMMARY:Gen2 Open Evening and Advice Session
DESCRIPTION:Gen2 Flyer
URL:https://www.southcumbriaap.org.uk/calendar/gen2-open-evening-and-advice-session/
END:VEVENT
BEGIN:VEVENT
DTSTART;TZID=Europe/London:20250203T080000
DTEND;TZID=Europe/London:20250209T170000
DTSTAMP:20260425T233237
CREATED:20250203T102806Z
LAST-MODIFIED:20250203T125452Z
UID:15102-1738569600-1739120400@www.southcumbriaap.org.uk
SUMMARY:Children's Mental Health Week
DESCRIPTION:
URL:https://www.southcumbriaap.org.uk/calendar/childrens-mental-health-week-4/
END:VEVENT
BEGIN:VEVENT
DTSTART;TZID=Europe/London:20250127T163000
DTEND;TZID=Europe/London:20250127T183000
DTSTAMP:20260425T233237
CREATED:20241111T132440Z
LAST-MODIFIED:20241111T132440Z
UID:14731-1737995400-1738002600@www.southcumbriaap.org.uk
SUMMARY:Catering & Hospitality Taster Session - Furness College - Years 9 - 11
DESCRIPTION:
URL:https://www.southcumbriaap.org.uk/calendar/catering-hospitality-taster-session-furness-college-years-9-11/
END:VEVENT
BEGIN:VEVENT
DTSTART;TZID=Europe/London:20250123T090000
DTEND;TZID=Europe/London:20250123T140000
DTSTAMP:20260425T233237
CREATED:20250109T113535Z
LAST-MODIFIED:20250109T113535Z
UID:14851-1737622800-1737640800@www.southcumbriaap.org.uk
SUMMARY:Year 11s Furness College Visit
DESCRIPTION:
URL:https://www.southcumbriaap.org.uk/calendar/year-11s-furness-college-visit-2/
END:VEVENT
BEGIN:VEVENT
DTSTART;TZID=Europe/London:20250122T130000
DTEND;TZID=Europe/London:20250122T170000
DTSTAMP:20260425T233237
CREATED:20241213T153023Z
LAST-MODIFIED:20241213T153023Z
UID:14837-1737550800-1737565200@www.southcumbriaap.org.uk
SUMMARY:Furness College Careers Fair - Years 10 and 11
DESCRIPTION:
URL:https://www.southcumbriaap.org.uk/calendar/furness-college-careers-fair-years-10-and-11/
END:VEVENT
BEGIN:VEVENT
DTSTART;TZID=Europe/London:20250116T090000
DTEND;TZID=Europe/London:20250116T140000
DTSTAMP:20260425T233237
CREATED:20250109T113458Z
LAST-MODIFIED:20250109T113458Z
UID:14849-1737018000-1737036000@www.southcumbriaap.org.uk
SUMMARY:Year 11s Army Visit
DESCRIPTION:
URL:https://www.southcumbriaap.org.uk/calendar/year-11s-army-visit/
END:VEVENT
BEGIN:VEVENT
DTSTART;TZID=Europe/London:20250107T080000
DTEND;TZID=Europe/London:20250107T170000
DTSTAMP:20260425T233237
CREATED:20230922T080136Z
LAST-MODIFIED:20230922T080136Z
UID:13214-1736236800-1736269200@www.southcumbriaap.org.uk
SUMMARY:START OF SPRING TERM
DESCRIPTION:
URL:https://www.southcumbriaap.org.uk/calendar/start-of-spring-term-4/
END:VEVENT
BEGIN:VEVENT
DTSTART;TZID=Europe/London:20250106T080000
DTEND;TZID=Europe/London:20250106T170000
DTSTAMP:20260425T233237
CREATED:20241002T101226Z
LAST-MODIFIED:20241002T101226Z
UID:14686-1736150400-1736182800@www.southcumbriaap.org.uk
SUMMARY:INSET DAY
DESCRIPTION:
URL:https://www.southcumbriaap.org.uk/calendar/inset-day-27/
END:VEVENT
BEGIN:VEVENT
DTSTART;TZID=Europe/London:20241220T080000
DTEND;TZID=Europe/London:20241220T170000
DTSTAMP:20260425T233237
CREATED:20230922T075818Z
LAST-MODIFIED:20230922T075818Z
UID:13210-1734681600-1734714000@www.southcumbriaap.org.uk
SUMMARY:END OF AUTUMN TERM
DESCRIPTION:
URL:https://www.southcumbriaap.org.uk/calendar/end-of-autumn-term-6/
END:VEVENT
BEGIN:VEVENT
DTSTART;TZID=Europe/London:20241209T163000
DTEND;TZID=Europe/London:20241209T173000
DTSTAMP:20260425T233237
CREATED:20241203T104010Z
LAST-MODIFIED:20241203T104010Z
UID:14821-1733761800-1733765400@www.southcumbriaap.org.uk
SUMMARY:Kendal College Arts & Media Campus Tour
DESCRIPTION:
URL:https://www.southcumbriaap.org.uk/calendar/kendal-college-arts-media-campus-tour/
END:VEVENT
BEGIN:VEVENT
DTSTART;TZID=Europe/London:20241128T110000
DTEND;TZID=Europe/London:20241128T130000
DTSTAMP:20260425T233237
CREATED:20241007T083155Z
LAST-MODIFIED:20241007T083155Z
UID:14711-1732791600-1732798800@www.southcumbriaap.org.uk
SUMMARY:County Lines Education Session - All Year Groups
DESCRIPTION:
URL:https://www.southcumbriaap.org.uk/calendar/county-lines-education-session-all-year-groups-2/
END:VEVENT
BEGIN:VEVENT
DTSTART;TZID=Europe/London:20241127T163000
DTEND;TZID=Europe/London:20241127T183000
DTSTAMP:20260425T233237
CREATED:20241111T135028Z
LAST-MODIFIED:20241111T135028Z
UID:14735-1732725000-1732732200@www.southcumbriaap.org.uk
SUMMARY:Gen2 Furness (Ulverston) - Open Evening
DESCRIPTION:
URL:https://www.southcumbriaap.org.uk/calendar/gen2-furness-ulverston-open-evening/
END:VEVENT
BEGIN:VEVENT
DTSTART;TZID=Europe/London:20241126T110000
DTEND;TZID=Europe/London:20241126T130000
DTSTAMP:20260425T233237
CREATED:20241007T083113Z
LAST-MODIFIED:20241007T083113Z
UID:14709-1732618800-1732626000@www.southcumbriaap.org.uk
SUMMARY:County Lines Education Session - All Year Groups
DESCRIPTION:
URL:https://www.southcumbriaap.org.uk/calendar/county-lines-education-session-all-year-groups/
END:VEVENT
BEGIN:VEVENT
DTSTART;TZID=Europe/London:20241119T130000
DTEND;TZID=Europe/London:20241119T150000
DTSTAMP:20260425T233237
CREATED:20241007T082916Z
LAST-MODIFIED:20241007T082916Z
UID:14707-1732021200-1732028400@www.southcumbriaap.org.uk
SUMMARY:Youth Parliament Question Time
DESCRIPTION:The Rydal Suite – Forum 28 Barrow
URL:https://www.southcumbriaap.org.uk/calendar/youth-parliament-question-time/
END:VEVENT
BEGIN:VEVENT
DTSTART;TZID=Europe/London:20241118T080000
DTEND;TZID=Europe/London:20241122T170000
DTSTAMP:20260425T233237
CREATED:20241007T082659Z
LAST-MODIFIED:20241007T082659Z
UID:14705-1731916800-1732294800@www.southcumbriaap.org.uk
SUMMARY:UK Parliament Week
DESCRIPTION:
URL:https://www.southcumbriaap.org.uk/calendar/uk-parliament-week/
END:VEVENT
BEGIN:VEVENT
DTSTART;TZID=Europe/London:20241115T100000
DTEND;TZID=Europe/London:20241115T111500
DTSTAMP:20260425T233237
CREATED:20241007T082620Z
LAST-MODIFIED:20241007T082620Z
UID:14702-1731664800-1731669300@www.southcumbriaap.org.uk
SUMMARY:BAE Apprenticeship Roadshow
DESCRIPTION:
URL:https://www.southcumbriaap.org.uk/calendar/bae-apprenticeship-roadshow/
END:VEVENT
BEGIN:VEVENT
DTSTART;TZID=Europe/London:20241114T170000
DTEND;TZID=Europe/London:20241114T190000
DTSTAMP:20260425T233237
CREATED:20241111T132544Z
LAST-MODIFIED:20241111T134927Z
UID:14733-1731603600-1731610800@www.southcumbriaap.org.uk
SUMMARY:Furness College - Channelside Campus - Open Evening
DESCRIPTION:
URL:https://www.southcumbriaap.org.uk/calendar/furness-college-channelside-campus-open-evening/
END:VEVENT
BEGIN:VEVENT
DTSTART;TZID=Europe/London:20241111T080000
DTEND;TZID=Europe/London:20241115T170000
DTSTAMP:20260425T233237
CREATED:20241111T093232Z
LAST-MODIFIED:20241111T093232Z
UID:14728-1731312000-1731690000@www.southcumbriaap.org.uk
SUMMARY:Anti Bullying Week
DESCRIPTION:
URL:https://www.southcumbriaap.org.uk/calendar/anti-bullying-week-4/
END:VEVENT
BEGIN:VEVENT
DTSTART;TZID=Europe/London:20241108T100000
DTEND;TZID=Europe/London:20241108T103000
DTSTAMP:20260425T233237
CREATED:20241007T082523Z
LAST-MODIFIED:20241007T082523Z
UID:14700-1731060000-1731061800@www.southcumbriaap.org.uk
SUMMARY:BAE Presentation - Year 11
DESCRIPTION:
URL:https://www.southcumbriaap.org.uk/calendar/bae-presentation-year-11/
END:VEVENT
BEGIN:VEVENT
DTSTART;TZID=Europe/London:20241106T144500
DTEND;TZID=Europe/London:20241106T163000
DTSTAMP:20260425T233237
CREATED:20240716T115814Z
LAST-MODIFIED:20240716T121405Z
UID:14629-1730904300-1730910600@www.southcumbriaap.org.uk
SUMMARY:Parental Engagement Session - Introduction to Year 11
DESCRIPTION:Next steps\, careers advice and guidance talking about workshops that your children will be taking part in with local companies including BAE\, parent job seeking advice\, school nurse\, information for students and parents on sexual health services and PRU’s Relationship and Sex Education Curriculum\, school counsellor and Engagement Officers available for catch up.
URL:https://www.southcumbriaap.org.uk/calendar/introduction-to-year-11/
END:VEVENT
BEGIN:VEVENT
DTSTART;TZID=Europe/London:20241105T150000
DTEND;TZID=Europe/London:20241105T170000
DTSTAMP:20260425T233237
CREATED:20241007T082444Z
LAST-MODIFIED:20250121T094110Z
UID:14698-1730818800-1730826000@www.southcumbriaap.org.uk
SUMMARY:Parent Engagement Session - Whole School
DESCRIPTION:View Flyer \n 
URL:https://www.southcumbriaap.org.uk/calendar/parent-engagement-session-whole-school/
END:VEVENT
BEGIN:VEVENT
DTSTART;TZID=Europe/London:20241104T080000
DTEND;TZID=Europe/London:20241104T170000
DTSTAMP:20260425T233237
CREATED:20241002T101159Z
LAST-MODIFIED:20241002T101159Z
UID:14684-1730707200-1730739600@www.southcumbriaap.org.uk
SUMMARY:INSET DAY
DESCRIPTION:
URL:https://www.southcumbriaap.org.uk/calendar/inset-day-26/
END:VEVENT
BEGIN:VEVENT
DTSTART;TZID=Europe/London:20241028T080000
DTEND;TZID=Europe/London:20241101T170000
DTSTAMP:20260425T233237
CREATED:20230922T075848Z
LAST-MODIFIED:20230922T075848Z
UID:13212-1730102400-1730480400@www.southcumbriaap.org.uk
SUMMARY:HALF TERM HOLIDAYS
DESCRIPTION:
URL:https://www.southcumbriaap.org.uk/calendar/half-term-holidays-14/
END:VEVENT
BEGIN:VEVENT
DTSTART;TZID=Europe/London:20241017T090000
DTEND;TZID=Europe/London:20241017T140000
DTSTAMP:20260425T233237
CREATED:20241007T082322Z
LAST-MODIFIED:20241007T082329Z
UID:14696-1729155600-1729173600@www.southcumbriaap.org.uk
SUMMARY:Inter PRU Football Match at Kendal 4G
DESCRIPTION:
URL:https://www.southcumbriaap.org.uk/calendar/inter-pru-football-match-at-kendal-4g/
END:VEVENT
BEGIN:VEVENT
DTSTART;TZID=Europe/London:20241010T080000
DTEND;TZID=Europe/London:20241010T170000
DTSTAMP:20260425T233237
CREATED:20241008T091344Z
LAST-MODIFIED:20241008T091344Z
UID:14713-1728547200-1728579600@www.southcumbriaap.org.uk
SUMMARY:Hello Yellow Day!  World Mental Health
DESCRIPTION:
URL:https://www.southcumbriaap.org.uk/calendar/hello-yellow-day-world-mental-health/
END:VEVENT
BEGIN:VEVENT
DTSTART;TZID=Europe/London:20241007T080000
DTEND;TZID=Europe/London:20241007T170000
DTSTAMP:20260425T233237
CREATED:20241007T081650Z
LAST-MODIFIED:20241007T081650Z
UID:14693-1728288000-1728320400@www.southcumbriaap.org.uk
SUMMARY:Year 11s - Furness Jobs and Skills Fair at Forum 28
DESCRIPTION:
URL:https://www.southcumbriaap.org.uk/calendar/year-11s-furness-jobs-and-skills-fair-at-forum-28/
END:VEVENT
END:VCALENDAR