BEGIN:VCALENDAR
VERSION:2.0
PRODID:-//South Cumbria Pupil Referral Service - ECPv6.0.11//NONSGML v1.0//EN
CALSCALE:GREGORIAN
METHOD:PUBLISH
X-WR-CALNAME:South Cumbria Pupil Referral Service
X-ORIGINAL-URL:https://www.southcumbriaap.org.uk
X-WR-CALDESC:Events for South Cumbria Pupil Referral Service
REFRESH-INTERVAL;VALUE=DURATION:PT1H
X-Robots-Tag:noindex
X-PUBLISHED-TTL:PT1H
BEGIN:VTIMEZONE
TZID:Europe/London
BEGIN:DAYLIGHT
TZOFFSETFROM:+0000
TZOFFSETTO:+0100
TZNAME:BST
DTSTART:20250330T010000
END:DAYLIGHT
BEGIN:STANDARD
TZOFFSETFROM:+0100
TZOFFSETTO:+0000
TZNAME:GMT
DTSTART:20251026T010000
END:STANDARD
END:VTIMEZONE
BEGIN:VEVENT
DTSTART;TZID=Europe/London:20251014T090000
DTEND;TZID=Europe/London:20251014T150000
DTSTAMP:20260425T122826
CREATED:20250925T075855Z
LAST-MODIFIED:20250925T075855Z
UID:15513-1760432400-1760454000@www.southcumbriaap.org.uk
SUMMARY:Year 11s - Careers and Skills Fair at The Bridge
DESCRIPTION:
URL:https://www.southcumbriaap.org.uk/calendar/year-11s-careers-and-skills-fair-at-the-bridge/
END:VEVENT
BEGIN:VEVENT
DTSTART;TZID=Europe/London:20250904T080000
DTEND;TZID=Europe/London:20250904T170000
DTSTAMP:20260425T122826
CREATED:20240712T125359Z
LAST-MODIFIED:20250618T142542Z
UID:14588-1756972800-1757005200@www.southcumbriaap.org.uk
SUMMARY:START OF AUTUMN TERM
DESCRIPTION:
URL:https://www.southcumbriaap.org.uk/calendar/start-of-autumn-term-4/
END:VEVENT
BEGIN:VEVENT
DTSTART;TZID=Europe/London:20250903T080000
DTEND;TZID=Europe/London:20250903T170000
DTSTAMP:20260425T122826
CREATED:20250618T142609Z
LAST-MODIFIED:20250618T142609Z
UID:15270-1756886400-1756918800@www.southcumbriaap.org.uk
SUMMARY:INSET DAY
DESCRIPTION:
URL:https://www.southcumbriaap.org.uk/calendar/inset-day-31/
END:VEVENT
BEGIN:VEVENT
DTSTART;TZID=Europe/London:20250902T080000
DTEND;TZID=Europe/London:20250902T170000
DTSTAMP:20260425T122826
CREATED:20250402T074250Z
LAST-MODIFIED:20250402T074433Z
UID:15206-1756800000-1756832400@www.southcumbriaap.org.uk
SUMMARY:INSET DAY
DESCRIPTION:
URL:https://www.southcumbriaap.org.uk/calendar/inset-day-29/
END:VEVENT
BEGIN:VEVENT
DTSTART;TZID=Europe/London:20250901T080000
DTEND;TZID=Europe/London:20250901T170000
DTSTAMP:20260425T122826
CREATED:20250402T074226Z
LAST-MODIFIED:20250402T074411Z
UID:15204-1756713600-1756746000@www.southcumbriaap.org.uk
SUMMARY:INSET DAY
DESCRIPTION:
URL:https://www.southcumbriaap.org.uk/calendar/inset-day-28/
END:VEVENT
BEGIN:VEVENT
DTSTART;TZID=Europe/London:20250718T080000
DTEND;TZID=Europe/London:20250718T170000
DTSTAMP:20260425T122826
CREATED:20230922T080514Z
LAST-MODIFIED:20230922T080514Z
UID:13222-1752825600-1752858000@www.southcumbriaap.org.uk
SUMMARY:END OF SUMMER TERM
DESCRIPTION:
URL:https://www.southcumbriaap.org.uk/calendar/end-of-summer-term-5/
END:VEVENT
BEGIN:VEVENT
DTSTART;TZID=Europe/London:20250702T090000
DTEND;TZID=Europe/London:20250702T143000
DTSTAMP:20260425T122826
CREATED:20250423T092121Z
LAST-MODIFIED:20250423T092121Z
UID:15233-1751446800-1751466600@www.southcumbriaap.org.uk
SUMMARY:BAE Work Experience Day - Year 11's
DESCRIPTION:
URL:https://www.southcumbriaap.org.uk/calendar/bae-work-experience-day-year-11s-2/
END:VEVENT
BEGIN:VEVENT
DTSTART;TZID=Europe/London:20250701T090000
DTEND;TZID=Europe/London:20250701T143000
DTSTAMP:20260425T122826
CREATED:20250423T092022Z
LAST-MODIFIED:20250423T092022Z
UID:15231-1751360400-1751380200@www.southcumbriaap.org.uk
SUMMARY:BAE Work Experience Day - Year 11's
DESCRIPTION:
URL:https://www.southcumbriaap.org.uk/calendar/bae-work-experience-day-year-11s/
END:VEVENT
BEGIN:VEVENT
DTSTART;TZID=Europe/London:20250625T144500
DTEND;TZID=Europe/London:20250625T161500
DTSTAMP:20260425T122826
CREATED:20250613T123109Z
LAST-MODIFIED:20250613T123122Z
UID:15254-1750862700-1750868100@www.southcumbriaap.org.uk
SUMMARY:Year 11 Leavers Event
DESCRIPTION:
URL:https://www.southcumbriaap.org.uk/calendar/year-11-leavers-event/
END:VEVENT
BEGIN:VEVENT
DTSTART;TZID=Europe/London:20250617T144500
DTEND;TZID=Europe/London:20250617T163000
DTSTAMP:20260425T122826
CREATED:20240716T115956Z
LAST-MODIFIED:20250131T103649Z
UID:14633-1750171500-1750177800@www.southcumbriaap.org.uk
SUMMARY:Parental Engagement Session - Year 10s Progressing to Year 11
DESCRIPTION:Meet subject teachers\, look through students work\, art exhibition\, support and advice for the summer what is there available\, school nurse\, parent job seeking advice\, school nurse\, information for students and parents on sexual health services and PRU’s Relationship and Sex Education Curriculum\, school counsellor and Engagement Officers available for catch up.
URL:https://www.southcumbriaap.org.uk/calendar/year-10s-progressing-to-year-11/
END:VEVENT
BEGIN:VEVENT
DTSTART;VALUE=DATE:20250616
DTEND;VALUE=DATE:20250618
DTSTAMP:20260425T122826
CREATED:20250110T120915Z
LAST-MODIFIED:20250110T120915Z
UID:14894-1750035600-1750121999@www.southcumbriaap.org.uk
SUMMARY:GCSE Physics / Trilogy Exam - Paper 2 - AM
DESCRIPTION:
URL:https://www.southcumbriaap.org.uk/calendar/gcse-physics-trilogy-exam-paper-2-am/
END:VEVENT
BEGIN:VEVENT
DTSTART;VALUE=DATE:20250613
DTEND;VALUE=DATE:20250615
DTSTAMP:20260425T122826
CREATED:20250110T120843Z
LAST-MODIFIED:20250110T120843Z
UID:14892-1749776400-1749862799@www.southcumbriaap.org.uk
SUMMARY:GCSE Chemistry Trilogy Exam - Paper 2 - AM
DESCRIPTION:
URL:https://www.southcumbriaap.org.uk/calendar/gcse-chemistry-trilogy-exam-paper-2-am-2/
END:VEVENT
BEGIN:VEVENT
DTSTART;VALUE=DATE:20250612
DTEND;VALUE=DATE:20250614
DTSTAMP:20260425T122826
CREATED:20250110T120804Z
LAST-MODIFIED:20250110T122136Z
UID:14890-1749690000-1749776399@www.southcumbriaap.org.uk
SUMMARY:1/2 Technical Award - Hospitality & Catering Exam - PM
DESCRIPTION:
URL:https://www.southcumbriaap.org.uk/calendar/1-2-technical-award-hospitality-catering-pm/
END:VEVENT
BEGIN:VEVENT
DTSTART;VALUE=DATE:20250611
DTEND;VALUE=DATE:20250613
DTSTAMP:20260425T122827
CREATED:20250110T120727Z
LAST-MODIFIED:20250110T120727Z
UID:14888-1749603600-1749689999@www.southcumbriaap.org.uk
SUMMARY:GCSE Maths Exam - Paper 3 - AM
DESCRIPTION:
URL:https://www.southcumbriaap.org.uk/calendar/gcse-maths-exam-paper-3-am-5/
END:VEVENT
BEGIN:VEVENT
DTSTART;VALUE=DATE:20250610
DTEND;VALUE=DATE:20250612
DTSTAMP:20260425T122827
CREATED:20250110T120633Z
LAST-MODIFIED:20250110T122039Z
UID:14886-1749517200-1749603599@www.southcumbriaap.org.uk
SUMMARY:GCSE History Exam - Paper 3 - PM
DESCRIPTION:
URL:https://www.southcumbriaap.org.uk/calendar/gcse-history-paper-3-pm/
END:VEVENT
BEGIN:VEVENT
DTSTART;VALUE=DATE:20250609
DTEND;VALUE=DATE:20250611
DTSTAMP:20260425T122827
CREATED:20250110T120507Z
LAST-MODIFIED:20250110T120507Z
UID:14884-1749430800-1749517199@www.southcumbriaap.org.uk
SUMMARY:CAMNAT iMedia Exam - PM
DESCRIPTION:
URL:https://www.southcumbriaap.org.uk/calendar/camnat-imedia-exam-pm/
END:VEVENT
BEGIN:VEVENT
DTSTART;VALUE=DATE:20250609
DTEND;VALUE=DATE:20250611
DTSTAMP:20260425T122827
CREATED:20250110T120421Z
LAST-MODIFIED:20250110T121959Z
UID:14882-1749430800-1749517199@www.southcumbriaap.org.uk
SUMMARY:GCSE Biology / Trilogy Exam - Paper 2 - AM
DESCRIPTION:
URL:https://www.southcumbriaap.org.uk/calendar/gcse-biology-trilogy-paper-2-am/
END:VEVENT
BEGIN:VEVENT
DTSTART;VALUE=DATE:20250606
DTEND;VALUE=DATE:20250608
DTSTAMP:20260425T122827
CREATED:20250110T120334Z
LAST-MODIFIED:20250110T121910Z
UID:14880-1749171600-1749257999@www.southcumbriaap.org.uk
SUMMARY:GCSE English Language Exam - Paper 2 - AM
DESCRIPTION:
URL:https://www.southcumbriaap.org.uk/calendar/gcse-english-language-paper-2-am-2/
END:VEVENT
BEGIN:VEVENT
DTSTART;VALUE=DATE:20250605
DTEND;VALUE=DATE:20250607
DTSTAMP:20260425T122827
CREATED:20250110T120241Z
LAST-MODIFIED:20250110T120241Z
UID:14878-1749085200-1749171599@www.southcumbriaap.org.uk
SUMMARY:GCSE History Exam - Paper 2 - AM
DESCRIPTION:
URL:https://www.southcumbriaap.org.uk/calendar/gcse-history-exam-paper-2-am-2/
END:VEVENT
BEGIN:VEVENT
DTSTART;VALUE=DATE:20250604
DTEND;VALUE=DATE:20250606
DTSTAMP:20260425T122827
CREATED:20250110T120208Z
LAST-MODIFIED:20250110T120208Z
UID:14876-1748998800-1749085199@www.southcumbriaap.org.uk
SUMMARY:GCSE Maths Exam - Paper 2 - AM
DESCRIPTION:
URL:https://www.southcumbriaap.org.uk/calendar/gcse-maths-exam-paper-2-am-4/
END:VEVENT
BEGIN:VEVENT
DTSTART;TZID=Europe/London:20250526T080000
DTEND;TZID=Europe/London:20250530T170000
DTSTAMP:20260425T122827
CREATED:20230922T080646Z
LAST-MODIFIED:20230922T080646Z
UID:13228-1748246400-1748624400@www.southcumbriaap.org.uk
SUMMARY:HALF TERM HOLIDAYS
DESCRIPTION:
URL:https://www.southcumbriaap.org.uk/calendar/half-term-holidays-16/
END:VEVENT
BEGIN:VEVENT
DTSTART;VALUE=DATE:20250523
DTEND;VALUE=DATE:20250525
DTSTAMP:20260425T122827
CREATED:20250110T120134Z
LAST-MODIFIED:20250110T121529Z
UID:14874-1747962000-1748048399@www.southcumbriaap.org.uk
SUMMARY:GCSE English Language Exam - Paper 1 - AM
DESCRIPTION:
URL:https://www.southcumbriaap.org.uk/calendar/gcse-english-language-paper-1-am-2/
END:VEVENT
BEGIN:VEVENT
DTSTART;VALUE=DATE:20250522
DTEND;VALUE=DATE:20250524
DTSTAMP:20260425T122827
CREATED:20250110T120053Z
LAST-MODIFIED:20250110T121352Z
UID:14872-1747875600-1747961999@www.southcumbriaap.org.uk
SUMMARY:GCSE Physics / Trilogy Exam - Paper 1 - AM
DESCRIPTION:
URL:https://www.southcumbriaap.org.uk/calendar/gcse-physics-trilogy-paper-1-am-2/
END:VEVENT
BEGIN:VEVENT
DTSTART;VALUE=DATE:20250520
DTEND;VALUE=DATE:20250522
DTSTAMP:20260425T122827
CREATED:20250110T120015Z
LAST-MODIFIED:20250110T121306Z
UID:14870-1747702800-1747789199@www.southcumbriaap.org.uk
SUMMARY:GCSE English Literature Exam - Paper 2 - AM
DESCRIPTION:
URL:https://www.southcumbriaap.org.uk/calendar/gcse-english-literature-paper-2-am-2/
END:VEVENT
BEGIN:VEVENT
DTSTART;VALUE=DATE:20250519
DTEND;VALUE=DATE:20250521
DTSTAMP:20260425T122827
CREATED:20250110T115941Z
LAST-MODIFIED:20250110T121222Z
UID:14868-1747616400-1747702799@www.southcumbriaap.org.uk
SUMMARY:GCSE Chemistry Trilogy Exam - Paper 1 - AM
DESCRIPTION:
URL:https://www.southcumbriaap.org.uk/calendar/gcse-chemistry-trilogy-exam-paper-1-am-2/
END:VEVENT
BEGIN:VEVENT
DTSTART;VALUE=DATE:20250516
DTEND;VALUE=DATE:20250518
DTSTAMP:20260425T122827
CREATED:20250110T115857Z
LAST-MODIFIED:20250110T115857Z
UID:14866-1747357200-1747443599@www.southcumbriaap.org.uk
SUMMARY:GCSE History Exam - Paper 1 - AM
DESCRIPTION:
URL:https://www.southcumbriaap.org.uk/calendar/gcse-history-exam-paper-1-am-2/
END:VEVENT
BEGIN:VEVENT
DTSTART;VALUE=DATE:20250515
DTEND;VALUE=DATE:20250517
DTSTAMP:20260425T122827
CREATED:20250110T115826Z
LAST-MODIFIED:20250110T115826Z
UID:14864-1747270800-1747357199@www.southcumbriaap.org.uk
SUMMARY:GCSE Maths Exam - Paper 1 - AM
DESCRIPTION:
URL:https://www.southcumbriaap.org.uk/calendar/gcse-maths-exam-paper-1-am-4/
END:VEVENT
BEGIN:VEVENT
DTSTART;VALUE=DATE:20250515
DTEND;VALUE=DATE:20250517
DTSTAMP:20260425T122827
CREATED:20250110T115754Z
LAST-MODIFIED:20250110T121012Z
UID:14862-1747270800-1747357199@www.southcumbriaap.org.uk
SUMMARY:GCSE Citizenship Exam - Paper 2 - PM
DESCRIPTION:
URL:https://www.southcumbriaap.org.uk/calendar/gcse-citizenship-paper-2-pm-2/
END:VEVENT
BEGIN:VEVENT
DTSTART;VALUE=DATE:20250513
DTEND;VALUE=DATE:20250515
DTSTAMP:20260425T122827
CREATED:20250110T115710Z
LAST-MODIFIED:20250110T115710Z
UID:14860-1747098000-1747184399@www.southcumbriaap.org.uk
SUMMARY:GCSE Biology / Trilogy Exam - Paper 1 - PM
DESCRIPTION:
URL:https://www.southcumbriaap.org.uk/calendar/gcse-biology-trilogy-exam-paper-1-pm/
END:VEVENT
BEGIN:VEVENT
DTSTART;TZID=Europe/London:20250512T080000
DTEND;TZID=Europe/London:20250518T170000
DTSTAMP:20260425T122827
CREATED:20250516T084023Z
LAST-MODIFIED:20250516T084023Z
UID:15247-1747036800-1747587600@www.southcumbriaap.org.uk
SUMMARY:Mental Health Awareness Week
DESCRIPTION:
URL:https://www.southcumbriaap.org.uk/calendar/mental-health-awareness-week-2/
END:VEVENT
END:VCALENDAR