BEGIN:VCALENDAR
VERSION:2.0
PRODID:-//South Cumbria Pupil Referral Service - ECPv6.0.11//NONSGML v1.0//EN
CALSCALE:GREGORIAN
METHOD:PUBLISH
X-WR-CALNAME:South Cumbria Pupil Referral Service
X-ORIGINAL-URL:https://www.southcumbriaap.org.uk
X-WR-CALDESC:Events for South Cumbria Pupil Referral Service
REFRESH-INTERVAL;VALUE=DURATION:PT1H
X-Robots-Tag:noindex
X-PUBLISHED-TTL:PT1H
BEGIN:VTIMEZONE
TZID:Europe/London
BEGIN:DAYLIGHT
TZOFFSETFROM:+0000
TZOFFSETTO:+0100
TZNAME:BST
DTSTART:20260329T010000
END:DAYLIGHT
BEGIN:STANDARD
TZOFFSETFROM:+0100
TZOFFSETTO:+0000
TZNAME:GMT
DTSTART:20261025T010000
END:STANDARD
BEGIN:DAYLIGHT
TZOFFSETFROM:+0000
TZOFFSETTO:+0100
TZNAME:BST
DTSTART:20270328T010000
END:DAYLIGHT
BEGIN:STANDARD
TZOFFSETFROM:+0100
TZOFFSETTO:+0000
TZNAME:GMT
DTSTART:20271031T010000
END:STANDARD
BEGIN:DAYLIGHT
TZOFFSETFROM:+0000
TZOFFSETTO:+0100
TZNAME:BST
DTSTART:20280326T010000
END:DAYLIGHT
BEGIN:STANDARD
TZOFFSETFROM:+0100
TZOFFSETTO:+0000
TZNAME:GMT
DTSTART:20281029T010000
END:STANDARD
END:VTIMEZONE
BEGIN:VEVENT
DTSTART;TZID=Europe/London:20260525T080000
DTEND;TZID=Europe/London:20260529T170000
DTSTAMP:20260423T134459
CREATED:20240712T130856Z
LAST-MODIFIED:20240712T130856Z
UID:14607-1779696000-1780074000@www.southcumbriaap.org.uk
SUMMARY:HALF TERM HOLIDAYS
DESCRIPTION:
URL:https://www.southcumbriaap.org.uk/calendar/half-term-holidays-19/
END:VEVENT
BEGIN:VEVENT
DTSTART;TZID=Europe/London:20260602T080000
DTEND;TZID=Europe/London:20260602T170000
DTSTAMP:20260423T134459
CREATED:20260417T134420Z
LAST-MODIFIED:20260417T141831Z
UID:16151-1780387200-1780419600@www.southcumbriaap.org.uk
SUMMARY:GCSE PHYSICS EXAM - PAPER 1 - AM
DESCRIPTION:
URL:https://www.southcumbriaap.org.uk/calendar/gcse-physics-paper-1-am/
END:VEVENT
BEGIN:VEVENT
DTSTART;TZID=Europe/London:20260603T091500
DTEND;TZID=Europe/London:20260603T104500
DTSTAMP:20260423T134459
CREATED:20260417T134503Z
LAST-MODIFIED:20260417T134503Z
UID:16153-1780478100-1780483500@www.southcumbriaap.org.uk
SUMMARY:GCSE MATHS EXAM - PAPER 2 - AM
DESCRIPTION:
URL:https://www.southcumbriaap.org.uk/calendar/gcse-maths-exam-paper-2-am-5/
END:VEVENT
BEGIN:VEVENT
DTSTART;TZID=Europe/London:20260605T080000
DTEND;TZID=Europe/London:20260605T170000
DTSTAMP:20260423T134459
CREATED:20260417T134541Z
LAST-MODIFIED:20260417T134541Z
UID:16155-1780646400-1780678800@www.southcumbriaap.org.uk
SUMMARY:GCSE ENGLISH LANGUAGE EXAM - PAPER 2 - AM
DESCRIPTION:
URL:https://www.southcumbriaap.org.uk/calendar/gcse-english-language-exam-paper-2-am-4/
END:VEVENT
BEGIN:VEVENT
DTSTART;TZID=Europe/London:20260608T091500
DTEND;TZID=Europe/London:20260608T103000
DTSTAMP:20260423T134459
CREATED:20260417T134909Z
LAST-MODIFIED:20260417T134909Z
UID:16157-1780910100-1780914600@www.southcumbriaap.org.uk
SUMMARY:GCSE BIOLOGY EXAM - PAPER 2 - AM
DESCRIPTION:
URL:https://www.southcumbriaap.org.uk/calendar/gcse-biology-exam-paper-2-am/
END:VEVENT
BEGIN:VEVENT
DTSTART;TZID=Europe/London:20260608T133000
DTEND;TZID=Europe/London:20260608T150000
DTSTAMP:20260423T134459
CREATED:20260417T134948Z
LAST-MODIFIED:20260417T134948Z
UID:16159-1780925400-1780930800@www.southcumbriaap.org.uk
SUMMARY:CAMNAT IMEDIA EXAM - PM
DESCRIPTION:
URL:https://www.southcumbriaap.org.uk/calendar/camnat-imedia-exam-pm-2/
END:VEVENT
BEGIN:VEVENT
DTSTART;TZID=Europe/London:20260610T091500
DTEND;TZID=Europe/London:20260610T104500
DTSTAMP:20260423T134459
CREATED:20260417T135027Z
LAST-MODIFIED:20260417T135027Z
UID:16161-1781082900-1781088300@www.southcumbriaap.org.uk
SUMMARY:GCSE MATHS EXAM - PAPER 3 - AM
DESCRIPTION:
URL:https://www.southcumbriaap.org.uk/calendar/gcse-maths-exam-paper-3-am-6/
END:VEVENT
BEGIN:VEVENT
DTSTART;TZID=Europe/London:20260612T091500
DTEND;TZID=Europe/London:20260612T103000
DTSTAMP:20260423T134459
CREATED:20260417T135112Z
LAST-MODIFIED:20260417T135112Z
UID:16163-1781255700-1781260200@www.southcumbriaap.org.uk
SUMMARY:GCSE CHEMISTRY EXAM - PAPER 2 - AM
DESCRIPTION:
URL:https://www.southcumbriaap.org.uk/calendar/gcse-chemistry-exam-paper-2-am-2/
END:VEVENT
BEGIN:VEVENT
DTSTART;TZID=Europe/London:20260612T133000
DTEND;TZID=Europe/London:20260612T145000
DTSTAMP:20260423T134459
CREATED:20260417T135157Z
LAST-MODIFIED:20260417T135157Z
UID:16165-1781271000-1781275800@www.southcumbriaap.org.uk
SUMMARY:VOCA CATERING EXAM - PM
DESCRIPTION:
URL:https://www.southcumbriaap.org.uk/calendar/voca-catering-exam-pm/
END:VEVENT
BEGIN:VEVENT
DTSTART;TZID=Europe/London:20260615T080000
DTEND;TZID=Europe/London:20260615T170000
DTSTAMP:20260423T134459
CREATED:20260417T135234Z
LAST-MODIFIED:20260417T135234Z
UID:16167-1781510400-1781542800@www.southcumbriaap.org.uk
SUMMARY:GCSE PHYSICS EXAM - PAPER 2 - AM
DESCRIPTION:
URL:https://www.southcumbriaap.org.uk/calendar/gcse-physics-exam-paper-2-am/
END:VEVENT
BEGIN:VEVENT
DTSTART;TZID=Europe/London:20260717T080000
DTEND;TZID=Europe/London:20260717T170000
DTSTAMP:20260423T134459
CREATED:20240712T130937Z
LAST-MODIFIED:20240712T130937Z
UID:14609-1784275200-1784307600@www.southcumbriaap.org.uk
SUMMARY:LAST DAY OF SUMMER TERM
DESCRIPTION:
URL:https://www.southcumbriaap.org.uk/calendar/last-day-of-summer-term-4/
END:VEVENT
BEGIN:VEVENT
DTSTART;TZID=Europe/London:20260902T080000
DTEND;TZID=Europe/London:20260902T170000
DTSTAMP:20260423T134459
CREATED:20250707T091858Z
LAST-MODIFIED:20250707T091858Z
UID:15298-1788336000-1788368400@www.southcumbriaap.org.uk
SUMMARY:START OF AUTUMN TERM
DESCRIPTION:
URL:https://www.southcumbriaap.org.uk/calendar/start-of-autumn-term-5/
END:VEVENT
BEGIN:VEVENT
DTSTART;TZID=Europe/London:20261026T080000
DTEND;TZID=Europe/London:20261030T170000
DTSTAMP:20260423T134459
CREATED:20250707T091959Z
LAST-MODIFIED:20250707T091959Z
UID:15300-1793001600-1793379600@www.southcumbriaap.org.uk
SUMMARY:HALF TERM HOLIDAYS
DESCRIPTION:
URL:https://www.southcumbriaap.org.uk/calendar/half-term-holidays-20/
END:VEVENT
BEGIN:VEVENT
DTSTART;TZID=Europe/London:20261218T080000
DTEND;TZID=Europe/London:20261218T170000
DTSTAMP:20260423T134459
CREATED:20250707T092059Z
LAST-MODIFIED:20250707T092059Z
UID:15302-1797580800-1797613200@www.southcumbriaap.org.uk
SUMMARY:LAST DAY OF AUTUMN TERM
DESCRIPTION:
URL:https://www.southcumbriaap.org.uk/calendar/last-day-of-autumn-term-4/
END:VEVENT
BEGIN:VEVENT
DTSTART;TZID=Europe/London:20270105T080000
DTEND;TZID=Europe/London:20270105T170000
DTSTAMP:20260423T134459
CREATED:20250707T092444Z
LAST-MODIFIED:20250707T092444Z
UID:15311-1799136000-1799168400@www.southcumbriaap.org.uk
SUMMARY:START OF SPRING TERM
DESCRIPTION:
URL:https://www.southcumbriaap.org.uk/calendar/start-of-spring-term-6/
END:VEVENT
BEGIN:VEVENT
DTSTART;TZID=Europe/London:20270215T080000
DTEND;TZID=Europe/London:20270219T170000
DTSTAMP:20260423T134459
CREATED:20250707T092218Z
LAST-MODIFIED:20250707T092218Z
UID:15306-1802678400-1803056400@www.southcumbriaap.org.uk
SUMMARY:HALF TERM HOLIDAYS
DESCRIPTION:
URL:https://www.southcumbriaap.org.uk/calendar/half-term-holidays-21/
END:VEVENT
BEGIN:VEVENT
DTSTART;TZID=Europe/London:20270325T080000
DTEND;TZID=Europe/London:20270325T170000
DTSTAMP:20260423T134459
CREATED:20250707T092523Z
LAST-MODIFIED:20250707T092523Z
UID:15313-1805961600-1805994000@www.southcumbriaap.org.uk
SUMMARY:LAST DAY OF SPRING TERM
DESCRIPTION:
URL:https://www.southcumbriaap.org.uk/calendar/last-day-of-spring-term-5/
END:VEVENT
BEGIN:VEVENT
DTSTART;TZID=Europe/London:20270326T080000
DTEND;TZID=Europe/London:20270326T170000
DTSTAMP:20260423T134459
CREATED:20250707T094501Z
LAST-MODIFIED:20250707T094501Z
UID:15321-1806048000-1806080400@www.southcumbriaap.org.uk
SUMMARY:GOOD FRIDAY
DESCRIPTION:
URL:https://www.southcumbriaap.org.uk/calendar/good-friday-8/
END:VEVENT
BEGIN:VEVENT
DTSTART;TZID=Europe/London:20270329T080000
DTEND;TZID=Europe/London:20270329T170000
DTSTAMP:20260423T134459
CREATED:20250707T094543Z
LAST-MODIFIED:20250707T094543Z
UID:15323-1806307200-1806339600@www.southcumbriaap.org.uk
SUMMARY:EASTER MONDAY
DESCRIPTION:
URL:https://www.southcumbriaap.org.uk/calendar/easter-monday-6/
END:VEVENT
BEGIN:VEVENT
DTSTART;TZID=Europe/London:20270412T080000
DTEND;TZID=Europe/London:20270412T170000
DTSTAMP:20260423T134459
CREATED:20250707T092555Z
LAST-MODIFIED:20250707T092555Z
UID:15315-1807516800-1807549200@www.southcumbriaap.org.uk
SUMMARY:START OF SUMMER TERM
DESCRIPTION:
URL:https://www.southcumbriaap.org.uk/calendar/start-of-summer-term-7/
END:VEVENT
BEGIN:VEVENT
DTSTART;TZID=Europe/London:20270531T080000
DTEND;TZID=Europe/London:20270604T170000
DTSTAMP:20260423T134459
CREATED:20250707T092633Z
LAST-MODIFIED:20250707T092633Z
UID:15317-1811750400-1812128400@www.southcumbriaap.org.uk
SUMMARY:HALF TERM HOLIDAYS
DESCRIPTION:
URL:https://www.southcumbriaap.org.uk/calendar/half-term-holidays-22/
END:VEVENT
BEGIN:VEVENT
DTSTART;TZID=Europe/London:20270716T080000
DTEND;TZID=Europe/London:20270716T170000
DTSTAMP:20260423T134459
CREATED:20250707T092716Z
LAST-MODIFIED:20250707T092716Z
UID:15319-1815724800-1815757200@www.southcumbriaap.org.uk
SUMMARY:LAST DAY OF SUMMER TERM
DESCRIPTION:
URL:https://www.southcumbriaap.org.uk/calendar/last-day-of-summer-term-5/
END:VEVENT
BEGIN:VEVENT
DTSTART;TZID=Europe/London:20270906T080000
DTEND;TZID=Europe/London:20270906T170000
DTSTAMP:20260423T134459
CREATED:20250707T095518Z
LAST-MODIFIED:20250707T095518Z
UID:15333-1820217600-1820250000@www.southcumbriaap.org.uk
SUMMARY:START OF AUTUMN TERM
DESCRIPTION:
URL:https://www.southcumbriaap.org.uk/calendar/start-of-autumn-term-6/
END:VEVENT
BEGIN:VEVENT
DTSTART;TZID=Europe/London:20271025T080000
DTEND;TZID=Europe/London:20271029T170000
DTSTAMP:20260423T134459
CREATED:20250707T095613Z
LAST-MODIFIED:20250707T095613Z
UID:15335-1824451200-1824829200@www.southcumbriaap.org.uk
SUMMARY:HALF TERM HOLIDAYS
DESCRIPTION:
URL:https://www.southcumbriaap.org.uk/calendar/half-term-holidays-23/
END:VEVENT
BEGIN:VEVENT
DTSTART;TZID=Europe/London:20271217T080000
DTEND;TZID=Europe/London:20271217T170000
DTSTAMP:20260423T134459
CREATED:20250707T095746Z
LAST-MODIFIED:20250707T095746Z
UID:15337-1829030400-1829062800@www.southcumbriaap.org.uk
SUMMARY:LAST DAY OF AUTUMN TERM
DESCRIPTION:
URL:https://www.southcumbriaap.org.uk/calendar/last-day-of-autumn-term-5/
END:VEVENT
BEGIN:VEVENT
DTSTART;TZID=Europe/London:20280105T080000
DTEND;TZID=Europe/London:20280105T170000
DTSTAMP:20260423T134459
CREATED:20250707T095849Z
LAST-MODIFIED:20250707T095849Z
UID:15339-1830672000-1830704400@www.southcumbriaap.org.uk
SUMMARY:START OF SPRING TERM
DESCRIPTION:
URL:https://www.southcumbriaap.org.uk/calendar/start-of-spring-term-7/
END:VEVENT
BEGIN:VEVENT
DTSTART;TZID=Europe/London:20280214T080000
DTEND;TZID=Europe/London:20280218T170000
DTSTAMP:20260423T134459
CREATED:20250707T100020Z
LAST-MODIFIED:20250707T100020Z
UID:15341-1834128000-1834506000@www.southcumbriaap.org.uk
SUMMARY:HALF TERM HOLIDAYS
DESCRIPTION:
URL:https://www.southcumbriaap.org.uk/calendar/half-term-holidays-24/
END:VEVENT
BEGIN:VEVENT
DTSTART;TZID=Europe/London:20280331T080000
DTEND;TZID=Europe/London:20280331T170000
DTSTAMP:20260423T134459
CREATED:20250707T100100Z
LAST-MODIFIED:20250707T100100Z
UID:15343-1838102400-1838134800@www.southcumbriaap.org.uk
SUMMARY:LAST DAY OF SPRING TERM
DESCRIPTION:
URL:https://www.southcumbriaap.org.uk/calendar/last-day-of-spring-term-6/
END:VEVENT
BEGIN:VEVENT
DTSTART;TZID=Europe/London:20280414T080000
DTEND;TZID=Europe/London:20280414T170000
DTSTAMP:20260423T134459
CREATED:20250707T094839Z
LAST-MODIFIED:20250707T094839Z
UID:15327-1839312000-1839344400@www.southcumbriaap.org.uk
SUMMARY:GOOD FRIDAY
DESCRIPTION:
URL:https://www.southcumbriaap.org.uk/calendar/good-friday-9/
END:VEVENT
BEGIN:VEVENT
DTSTART;TZID=Europe/London:20280417T080000
DTEND;TZID=Europe/London:20280417T170000
DTSTAMP:20260423T134459
CREATED:20250707T094745Z
LAST-MODIFIED:20250707T094745Z
UID:15325-1839571200-1839603600@www.southcumbriaap.org.uk
SUMMARY:EASTER MONDAY
DESCRIPTION:
URL:https://www.southcumbriaap.org.uk/calendar/easter-monday-7/
END:VEVENT
END:VCALENDAR