BEGIN:VCALENDAR
VERSION:2.0
PRODID:-//South Cumbria Pupil Referral Service - ECPv6.0.11//NONSGML v1.0//EN
CALSCALE:GREGORIAN
METHOD:PUBLISH
X-WR-CALNAME:South Cumbria Pupil Referral Service
X-ORIGINAL-URL:https://www.southcumbriaap.org.uk
X-WR-CALDESC:Events for South Cumbria Pupil Referral Service
REFRESH-INTERVAL;VALUE=DURATION:PT1H
X-Robots-Tag:noindex
X-PUBLISHED-TTL:PT1H
BEGIN:VTIMEZONE
TZID:Europe/London
BEGIN:DAYLIGHT
TZOFFSETFROM:+0000
TZOFFSETTO:+0100
TZNAME:BST
DTSTART:20250330T010000
END:DAYLIGHT
BEGIN:STANDARD
TZOFFSETFROM:+0100
TZOFFSETTO:+0000
TZNAME:GMT
DTSTART:20251026T010000
END:STANDARD
BEGIN:DAYLIGHT
TZOFFSETFROM:+0000
TZOFFSETTO:+0100
TZNAME:BST
DTSTART:20260329T010000
END:DAYLIGHT
BEGIN:STANDARD
TZOFFSETFROM:+0100
TZOFFSETTO:+0000
TZNAME:GMT
DTSTART:20261025T010000
END:STANDARD
END:VTIMEZONE
BEGIN:VEVENT
DTSTART;TZID=Europe/London:20260216T080000
DTEND;TZID=Europe/London:20260220T170000
DTSTAMP:20260423T145908
CREATED:20240712T125656Z
LAST-MODIFIED:20240712T125656Z
UID:14596-1771228800-1771606800@www.southcumbriaap.org.uk
SUMMARY:HALF TERM HOLIDAYS
DESCRIPTION:
URL:https://www.southcumbriaap.org.uk/calendar/half-term-holidays-18/
END:VEVENT
BEGIN:VEVENT
DTSTART;TZID=Europe/London:20260212T170000
DTEND;TZID=Europe/London:20260212T190000
DTSTAMP:20260423T145908
CREATED:20260123T110900Z
LAST-MODIFIED:20260123T110928Z
UID:15945-1770915600-1770922800@www.southcumbriaap.org.uk
SUMMARY:Furness College Apprenticeship Open Evening
DESCRIPTION: 
URL:https://www.southcumbriaap.org.uk/calendar/furness-college-apprenticeship-open-evening-2/
END:VEVENT
BEGIN:VEVENT
DTSTART;TZID=Europe/London:20260211T133000
DTEND;TZID=Europe/London:20260211T143000
DTSTAMP:20260423T145908
CREATED:20260203T141849Z
LAST-MODIFIED:20260203T160001Z
UID:16007-1770816600-1770820200@www.southcumbriaap.org.uk
SUMMARY:Year 11's BAE Workshop
DESCRIPTION:
URL:https://www.southcumbriaap.org.uk/calendar/year-11s-bae-workshop/
END:VEVENT
BEGIN:VEVENT
DTSTART;TZID=Europe/London:20260210T080000
DTEND;TZID=Europe/London:20260210T170000
DTSTAMP:20260423T145908
CREATED:20260130T104119Z
LAST-MODIFIED:20260130T104119Z
UID:15958-1770710400-1770742800@www.southcumbriaap.org.uk
SUMMARY:National Online Safety Day
DESCRIPTION:
URL:https://www.southcumbriaap.org.uk/calendar/national-online-safety-day/
END:VEVENT
BEGIN:VEVENT
DTSTART;TZID=Europe/London:20260209T080000
DTEND;TZID=Europe/London:20260215T170000
DTSTAMP:20260423T145908
CREATED:20260206T125853Z
LAST-MODIFIED:20260206T125853Z
UID:16065-1770624000-1771174800@www.southcumbriaap.org.uk
SUMMARY:Children's Mental Health Week
DESCRIPTION:
URL:https://www.southcumbriaap.org.uk/calendar/childrens-mental-health-week-5/
END:VEVENT
BEGIN:VEVENT
DTSTART;TZID=Europe/London:20260209T080000
DTEND;TZID=Europe/London:20260213T170000
DTSTAMP:20260423T145908
CREATED:20260203T141759Z
LAST-MODIFIED:20260203T141759Z
UID:16005-1770624000-1771002000@www.southcumbriaap.org.uk
SUMMARY:National Apprenticeship Week
DESCRIPTION:
URL:https://www.southcumbriaap.org.uk/calendar/national-apprenticeship-week-7/
END:VEVENT
BEGIN:VEVENT
DTSTART;TZID=Europe/London:20260204T120000
DTEND;TZID=Europe/London:20260204T143000
DTSTAMP:20260423T145908
CREATED:20260203T141712Z
LAST-MODIFIED:20260203T141712Z
UID:16003-1770206400-1770215400@www.southcumbriaap.org.uk
SUMMARY:Army Workshop / Careers Talk / Team Building
DESCRIPTION:
URL:https://www.southcumbriaap.org.uk/calendar/army-workshop-careers-talk-team-building/
END:VEVENT
BEGIN:VEVENT
DTSTART;TZID=Europe/London:20260204T090000
DTEND;TZID=Europe/London:20260204T120000
DTSTAMP:20260423T145908
CREATED:20260203T141627Z
LAST-MODIFIED:20260203T141627Z
UID:16001-1770195600-1770206400@www.southcumbriaap.org.uk
SUMMARY:Inspira - KS4
DESCRIPTION:
URL:https://www.southcumbriaap.org.uk/calendar/inspira-ks4-2/
END:VEVENT
BEGIN:VEVENT
DTSTART;TZID=Europe/London:20260202T120000
DTEND;TZID=Europe/London:20260202T143000
DTSTAMP:20260423T145908
CREATED:20260203T141552Z
LAST-MODIFIED:20260203T141552Z
UID:15999-1770033600-1770042600@www.southcumbriaap.org.uk
SUMMARY:Inspira - KS4
DESCRIPTION:
URL:https://www.southcumbriaap.org.uk/calendar/inspira-ks4/
END:VEVENT
BEGIN:VEVENT
DTSTART;TZID=Europe/London:20260114T110000
DTEND;TZID=Europe/London:20260114T120000
DTSTAMP:20260423T145908
CREATED:20251218T092822Z
LAST-MODIFIED:20251218T092822Z
UID:15909-1768388400-1768392000@www.southcumbriaap.org.uk
SUMMARY:Orsted Workshop
DESCRIPTION:
URL:https://www.southcumbriaap.org.uk/calendar/orsted-workshop/
END:VEVENT
BEGIN:VEVENT
DTSTART;TZID=Europe/London:20260113T100000
DTEND;TZID=Europe/London:20260113T110000
DTSTAMP:20260423T145908
CREATED:20251218T092740Z
LAST-MODIFIED:20251218T092740Z
UID:15907-1768298400-1768302000@www.southcumbriaap.org.uk
SUMMARY:BAE Workshop
DESCRIPTION:
URL:https://www.southcumbriaap.org.uk/calendar/bae-workshop/
END:VEVENT
BEGIN:VEVENT
DTSTART;TZID=Europe/London:20260107T080000
DTEND;TZID=Europe/London:20260107T170000
DTSTAMP:20260423T145908
CREATED:20240712T125608Z
LAST-MODIFIED:20240712T125608Z
UID:14594-1767772800-1767805200@www.southcumbriaap.org.uk
SUMMARY:START OF SPRING TERM
DESCRIPTION:
URL:https://www.southcumbriaap.org.uk/calendar/start-of-spring-term-5/
END:VEVENT
BEGIN:VEVENT
DTSTART;TZID=Europe/London:20260106T080000
DTEND;TZID=Europe/London:20260106T170000
DTSTAMP:20260423T145908
CREATED:20250402T074318Z
LAST-MODIFIED:20250402T074526Z
UID:15208-1767686400-1767718800@www.southcumbriaap.org.uk
SUMMARY:INSET DAY
DESCRIPTION:
URL:https://www.southcumbriaap.org.uk/calendar/inset-day-30/
END:VEVENT
BEGIN:VEVENT
DTSTART;TZID=Europe/London:20251219T080000
DTEND;TZID=Europe/London:20251219T170000
DTSTAMP:20260423T145908
CREATED:20240712T125520Z
LAST-MODIFIED:20240712T125520Z
UID:14592-1766131200-1766163600@www.southcumbriaap.org.uk
SUMMARY:LAST DAY OF AUTUMN TERM
DESCRIPTION:
URL:https://www.southcumbriaap.org.uk/calendar/last-day-of-autumn-term-3/
END:VEVENT
BEGIN:VEVENT
DTSTART;TZID=Europe/London:20251203T080000
DTEND;TZID=Europe/London:20251203T170000
DTSTAMP:20260423T145908
CREATED:20250925T080243Z
LAST-MODIFIED:20250925T080243Z
UID:15523-1764748800-1764781200@www.southcumbriaap.org.uk
SUMMARY:DWP visiting students @ Channelside
DESCRIPTION:
URL:https://www.southcumbriaap.org.uk/calendar/dwp-visiting-students-channelside/
END:VEVENT
BEGIN:VEVENT
DTSTART;TZID=Europe/London:20251202T144500
DTEND;TZID=Europe/London:20251202T154500
DTSTAMP:20260423T145908
CREATED:20251126T091844Z
LAST-MODIFIED:20251126T091844Z
UID:15840-1764686700-1764690300@www.southcumbriaap.org.uk
SUMMARY:Channelside Parents Evening
DESCRIPTION:
URL:https://www.southcumbriaap.org.uk/calendar/channelside-parents-evening/
END:VEVENT
BEGIN:VEVENT
DTSTART;TZID=Europe/London:20251201T080000
DTEND;TZID=Europe/London:20251201T170000
DTSTAMP:20260423T145908
CREATED:20250925T080207Z
LAST-MODIFIED:20250925T080207Z
UID:15521-1764576000-1764608400@www.southcumbriaap.org.uk
SUMMARY:DWP visiting students @ Newbridge House
DESCRIPTION:
URL:https://www.southcumbriaap.org.uk/calendar/dwp-visiting-students-newbridge-house/
END:VEVENT
BEGIN:VEVENT
DTSTART;TZID=Europe/London:20251128T093000
DTEND;TZID=Europe/London:20251128T110000
DTSTAMP:20260423T145908
CREATED:20251126T091808Z
LAST-MODIFIED:20251126T091808Z
UID:15838-1764322200-1764327600@www.southcumbriaap.org.uk
SUMMARY:Furness College Visit - Year 11's
DESCRIPTION:
URL:https://www.southcumbriaap.org.uk/calendar/furness-college-visit-year-11s-2/
END:VEVENT
BEGIN:VEVENT
DTSTART;TZID=Europe/London:20251126T163000
DTEND;TZID=Europe/London:20251126T183000
DTSTAMP:20260423T145908
CREATED:20251106T100559Z
LAST-MODIFIED:20251106T102329Z
UID:15804-1764174600-1764181800@www.southcumbriaap.org.uk
SUMMARY:Gen2 Open Evening - Ulverston
DESCRIPTION:
URL:https://www.southcumbriaap.org.uk/calendar/gen2-open-evening-ulverston/
END:VEVENT
BEGIN:VEVENT
DTSTART;TZID=Europe/London:20251126T113000
DTEND;TZID=Europe/London:20251126T130000
DTSTAMP:20260423T145908
CREATED:20251126T091732Z
LAST-MODIFIED:20251126T091732Z
UID:15836-1764156600-1764162000@www.southcumbriaap.org.uk
SUMMARY:Furness College Visit - Year 11's
DESCRIPTION:
URL:https://www.southcumbriaap.org.uk/calendar/furness-college-visit-year-11s/
END:VEVENT
BEGIN:VEVENT
DTSTART;TZID=Europe/London:20251126T100000
DTEND;TZID=Europe/London:20251126T110000
DTSTAMP:20260423T145908
CREATED:20251126T091655Z
LAST-MODIFIED:20251126T091655Z
UID:15834-1764151200-1764154800@www.southcumbriaap.org.uk
SUMMARY:BAE Visit / Talk with Students - KS4
DESCRIPTION:
URL:https://www.southcumbriaap.org.uk/calendar/bae-visit-talk-with-students-ks4/
END:VEVENT
BEGIN:VEVENT
DTSTART;TZID=Europe/London:20251121T080000
DTEND;TZID=Europe/London:20251121T170000
DTSTAMP:20260423T145908
CREATED:20251013T141019Z
LAST-MODIFIED:20251013T141019Z
UID:15706-1763712000-1763744400@www.southcumbriaap.org.uk
SUMMARY:Global Outdoor Learning Day
DESCRIPTION:
URL:https://www.southcumbriaap.org.uk/calendar/global-outdoor-learning-day/
END:VEVENT
BEGIN:VEVENT
DTSTART;TZID=Europe/London:20251120T170000
DTEND;TZID=Europe/London:20251120T190000
DTSTAMP:20260423T145908
CREATED:20250924T124034Z
LAST-MODIFIED:20250924T124034Z
UID:15499-1763658000-1763665200@www.southcumbriaap.org.uk
SUMMARY:Furness College Open Evening Channelside Campus
DESCRIPTION:
URL:https://www.southcumbriaap.org.uk/calendar/furness-college-open-evening-channelside-campus-2/
END:VEVENT
BEGIN:VEVENT
DTSTART;TZID=Europe/London:20251113T170000
DTEND;TZID=Europe/London:20251113T190000
DTSTAMP:20260423T145908
CREATED:20250924T123952Z
LAST-MODIFIED:20250924T123952Z
UID:15497-1763053200-1763060400@www.southcumbriaap.org.uk
SUMMARY:Furness College Open Evening Sixth Form Campus
DESCRIPTION:
URL:https://www.southcumbriaap.org.uk/calendar/furness-college-open-evening-sixth-form-campus/
END:VEVENT
BEGIN:VEVENT
DTSTART;TZID=Europe/London:20251111T150000
DTEND;TZID=Europe/London:20251111T170000
DTSTAMP:20260423T145908
CREATED:20250925T080030Z
LAST-MODIFIED:20251103T153629Z
UID:15517-1762873200-1762880400@www.southcumbriaap.org.uk
SUMMARY:Parent & Employer Engagement Event @ Newbridge House
DESCRIPTION:
URL:https://www.southcumbriaap.org.uk/calendar/parent-employer-engagement-event-newbridge-house/
END:VEVENT
BEGIN:VEVENT
DTSTART;TZID=Europe/London:20251111T080000
DTEND;TZID=Europe/London:20251111T170000
DTSTAMP:20260423T145908
CREATED:20251024T080744Z
LAST-MODIFIED:20251024T080744Z
UID:15732-1762848000-1762880400@www.southcumbriaap.org.uk
SUMMARY:Sexual Health Awareness Sessions KS4
DESCRIPTION:
URL:https://www.southcumbriaap.org.uk/calendar/sexual-health-awareness-sessions-ks4/
END:VEVENT
BEGIN:VEVENT
DTSTART;TZID=Europe/London:20251106T080000
DTEND;TZID=Europe/London:20251106T170000
DTSTAMP:20260423T145908
CREATED:20251013T140941Z
LAST-MODIFIED:20251013T140941Z
UID:15704-1762416000-1762448400@www.southcumbriaap.org.uk
SUMMARY:Outdoor Classroom Day
DESCRIPTION:
URL:https://www.southcumbriaap.org.uk/calendar/outdoor-classroom-day/
END:VEVENT
BEGIN:VEVENT
DTSTART;TZID=Europe/London:20251103T080000
DTEND;TZID=Europe/London:20251103T170000
DTSTAMP:20260423T145908
CREATED:20250925T075933Z
LAST-MODIFIED:20250925T075933Z
UID:15515-1762156800-1762189200@www.southcumbriaap.org.uk
SUMMARY:SASK Open Day
DESCRIPTION:
URL:https://www.southcumbriaap.org.uk/calendar/sask-open-day/
END:VEVENT
BEGIN:VEVENT
DTSTART;TZID=Europe/London:20251027T080000
DTEND;TZID=Europe/London:20251031T170000
DTSTAMP:20260423T145908
CREATED:20240712T125439Z
LAST-MODIFIED:20240712T125439Z
UID:14590-1761552000-1761930000@www.southcumbriaap.org.uk
SUMMARY:HALF TERM HOLIDAYS
DESCRIPTION:
URL:https://www.southcumbriaap.org.uk/calendar/half-term-holidays-17/
END:VEVENT
BEGIN:VEVENT
DTSTART;TZID=Europe/London:20251022T080000
DTEND;TZID=Europe/London:20251022T170000
DTSTAMP:20260423T145908
CREATED:20251013T140911Z
LAST-MODIFIED:20251013T140911Z
UID:15702-1761120000-1761152400@www.southcumbriaap.org.uk
SUMMARY:Sustainability Day
DESCRIPTION:
URL:https://www.southcumbriaap.org.uk/calendar/sustainability-day/
END:VEVENT
END:VCALENDAR